BEGIN:VCALENDAR
VERSION:2.0
PRODID:-//The Acton Exchange - ECPv6.15.17.1//NONSGML v1.0//EN
CALSCALE:GREGORIAN
METHOD:PUBLISH
X-ORIGINAL-URL:https://www.actonexchange.org
X-WR-CALDESC:Events for The Acton Exchange
REFRESH-INTERVAL;VALUE=DURATION:PT1H
X-Robots-Tag:noindex
X-PUBLISHED-TTL:PT1H
BEGIN:VTIMEZONE
TZID:America/New_York
BEGIN:DAYLIGHT
TZOFFSETFROM:-0500
TZOFFSETTO:-0400
TZNAME:EDT
DTSTART:20240310T070000
END:DAYLIGHT
BEGIN:STANDARD
TZOFFSETFROM:-0400
TZOFFSETTO:-0500
TZNAME:EST
DTSTART:20241103T060000
END:STANDARD
BEGIN:DAYLIGHT
TZOFFSETFROM:-0500
TZOFFSETTO:-0400
TZNAME:EDT
DTSTART:20250309T070000
END:DAYLIGHT
BEGIN:STANDARD
TZOFFSETFROM:-0400
TZOFFSETTO:-0500
TZNAME:EST
DTSTART:20251102T060000
END:STANDARD
BEGIN:DAYLIGHT
TZOFFSETFROM:-0500
TZOFFSETTO:-0400
TZNAME:EDT
DTSTART:20260308T070000
END:DAYLIGHT
BEGIN:STANDARD
TZOFFSETFROM:-0400
TZOFFSETTO:-0500
TZNAME:EST
DTSTART:20261101T060000
END:STANDARD
END:VTIMEZONE
BEGIN:VEVENT
DTSTART;TZID=America/New_York:20250605T140000
DTEND;TZID=America/New_York:20250605T150000
DTSTAMP:20260419T160530
CREATED:20250509T150829Z
LAST-MODIFIED:20250509T150829Z
UID:10002179-1749132000-1749135600@www.actonexchange.org
SUMMARY:Acton COA presents: PRIDE Pizza & Improvisation Games for the LGBTQ+ Community
DESCRIPTION:Hosted by Julie Nowak (she/any)\, LGBTQIA+ Initiative Coordinator\, Springwell Elder Services  \nEnjoy some delicious pizza and give your wits a good workout with some hilarious improv games! We play cooperatively\, not competitively (and enjoy a LOT of laughs)! You’re always free to pass\, choose another card\, and/or get a little help! You don’t have to act and the games are fun and fast-moving! Rainbow elders and allies from Acton and beyond are warmly welcome to join the fun of playing these unusual\, easy-to-learn games: \nPoetry for Neanderthals – Get creative communicating your historic discoveries using only the smallest words! \nOn a Scale of One to T-Rex – Unleash your inner dinosaur\, tree\, or wacky waver in this zany\, expressive game! \nPlease sign up so we have enough pizza either with the Council on Aging at seniorcenter@actonma.gov\, 978-929-6652 or directly to Chris Chirokas at cchirokas@actonma.gov and same phone number.
URL:https://www.actonexchange.org/event/acton-coa-presents-pride-pizza-improvisation-games-for-the-lgbtq-community/
LOCATION:Acton Senior Center\, 30 Sudbury Road Rear\, Acton\, MA\, 01720
ORGANIZER;CN="Acton Council on Aging":MAILTO:seniorcenter@actonma.gov
END:VEVENT
BEGIN:VEVENT
DTSTART;TZID=America/New_York:20250605T180000
DTEND;TZID=America/New_York:20250605T200000
DTSTAMP:20260419T160530
CREATED:20250515T132337Z
LAST-MODIFIED:20250515T132337Z
UID:10002191-1749146400-1749153600@www.actonexchange.org
SUMMARY:Danny’s Place Spring Showcase
DESCRIPTION:Get ready to be inspired! Join us at Danny’s Place for our Spring Showcase\, a vibrant event where youth-led innovation takes center stage. Meet the incredible teens behind powerful community projects like a Senior Prom for adults\, a model of our sister towns\, rubik’s cube education\, and so much more from the U-Project cohort. \n✨ Hands-on activity stations✨ Youth-led project exhibits✨ Silent auction with local prizes✨ Free food provided by 110 Grill & Evviva Trattoria \nWhether you’re a parent\, community member\, educator\, or just curious\, you’re invited! Come see what happens when young people are given the space and support to lead with purpose. \nAttendance is free — all ages welcome. \nRSVP at dannys-place.org/celebration
URL:https://www.actonexchange.org/event/dannys-place-spring-showcase/
LOCATION:Danny’s Place\, 543 Mass Ave.\, Acton\, MA\, 01720
END:VEVENT
END:VCALENDAR